BEGIN:VCALENDAR
VERSION:2.0
PRODID:-//岡山両備タクシー 採用情報 - ECPv6.15.13//NONSGML v1.0//EN
CALSCALE:GREGORIAN
METHOD:PUBLISH
X-WR-CALNAME:岡山両備タクシー 採用情報
X-ORIGINAL-URL:https://okayama-ryobi-taxi.jp/driver
X-WR-CALDESC:岡山両備タクシー 採用情報 のイベント
REFRESH-INTERVAL;VALUE=DURATION:PT1H
X-Robots-Tag:noindex
X-PUBLISHED-TTL:PT1H
BEGIN:VTIMEZONE
TZID:Asia/Tokyo
BEGIN:STANDARD
TZOFFSETFROM:+0900
TZOFFSETTO:+0900
TZNAME:JST
DTSTART:20240101T000000
END:STANDARD
END:VTIMEZONE
BEGIN:VEVENT
DTSTART;TZID=Asia/Tokyo:20251006T180000
DTEND;TZID=Asia/Tokyo:20251006T190000
DTSTAMP:20260425T232950
CREATED:20251001T024044Z
LAST-MODIFIED:20251001T024044Z
UID:1605-1759773600-1759777200@okayama-ryobi-taxi.jp
SUMMARY:南ふれあいセンター 第1研修室
DESCRIPTION:ご予約は086-272-1236までお電話いただくか、応募フォームの「その他、ご連絡事項等」へご希望の日程をご記入ください。（当日予約OK）\n※ご予約なしでのご参加も可能ですが、ご予約いただいた方をお待ちいただく場合がありますので、ご了承ください。\n※日程のご都合がつかない方は、ご相談ください。個別で説明会を実施させていただきます。
URL:https://okayama-ryobi-taxi.jp/driver/session/tribe_events-1605/
LOCATION:南ふれあいセンター\, 福田690-1\, 岡山市南区\, 岡山県\, 702-8021\, 日本
END:VEVENT
BEGIN:VEVENT
DTSTART;TZID=Asia/Tokyo:20251010T180000
DTEND;TZID=Asia/Tokyo:20251010T190000
DTSTAMP:20260425T232950
CREATED:20251001T024139Z
LAST-MODIFIED:20251001T024139Z
UID:1607-1760119200-1760122800@okayama-ryobi-taxi.jp
SUMMARY:岡山ふれあいセンター 第5研修室
DESCRIPTION:ご予約は086-272-1236までお電話いただくか、応募フォームの「その他、ご連絡事項等」へご希望の日程をご記入ください。（当日予約OK）\n※ご予約なしでのご参加も可能ですが、ご予約いただいた方をお待ちいただく場合がありますので、ご了承ください。\n※日程のご都合がつかない方は、ご相談ください。個別で説明会を実施させていただきます。
URL:https://okayama-ryobi-taxi.jp/driver/session/tribe_events-1607/
LOCATION:岡山ふれあいセンター 第5研修室\, 岡山県岡山市中区桑野715-2\, 岡山市中区\, 岡山県\, 702-8002\, 日本
END:VEVENT
BEGIN:VEVENT
DTSTART;TZID=Asia/Tokyo:20251015T180000
DTEND;TZID=Asia/Tokyo:20251015T190000
DTSTAMP:20260425T232950
CREATED:20251001T024219Z
LAST-MODIFIED:20251001T024219Z
UID:1609-1760551200-1760554800@okayama-ryobi-taxi.jp
SUMMARY:北ふれあいセンター 和室
DESCRIPTION:ご予約は086-272-1236までお電話いただくか、応募フォームの「その他、ご連絡事項等」へご希望の日程をご記入ください。（当日予約OK）\n※ご予約なしでのご参加も可能ですが、ご予約いただいた方をお待ちいただく場合がありますので、ご了承ください。\n※日程のご都合がつかない方は、ご相談ください。個別で説明会を実施させていただきます。
URL:https://okayama-ryobi-taxi.jp/driver/session/tribe_events-1609/
LOCATION:北ふれあいセンター\, 谷万成2丁目6-33\, 岡山市北区\, 岡山県\, 700-0071\, 日本
END:VEVENT
BEGIN:VEVENT
DTSTART;TZID=Asia/Tokyo:20251017T180000
DTEND;TZID=Asia/Tokyo:20251017T190000
DTSTAMP:20260425T232950
CREATED:20251001T024258Z
LAST-MODIFIED:20251001T024258Z
UID:1611-1760724000-1760727600@okayama-ryobi-taxi.jp
SUMMARY:西大寺ふれあいセンター 第3研修室
DESCRIPTION:ご予約は086-272-1236までお電話いただくか、応募フォームの「その他、ご連絡事項等」へご希望の日程をご記入ください。（当日予約OK）\n※ご予約なしでのご参加も可能ですが、ご予約いただいた方をお待ちいただく場合がありますので、ご了承ください。\n※日程のご都合がつかない方は、ご相談ください。個別で説明会を実施させていただきます。
URL:https://okayama-ryobi-taxi.jp/driver/session/tribe_events-1611/
LOCATION:西大寺ふれあいセンター\, 西大寺中2丁目16-33\, 岡山市東区\, 岡山県\, 704-8116\, 日本
END:VEVENT
BEGIN:VEVENT
DTSTART;TZID=Asia/Tokyo:20251020T180000
DTEND;TZID=Asia/Tokyo:20251020T190000
DTSTAMP:20260425T232950
CREATED:20251001T024348Z
LAST-MODIFIED:20251001T024348Z
UID:1613-1760983200-1760986800@okayama-ryobi-taxi.jp
SUMMARY:西ふれあいセンター 第2研修室
DESCRIPTION:ご予約は086-272-1236までお電話いただくか、応募フォームの「その他、ご連絡事項等」へご希望の日程をご記入ください。（当日予約OK）\n※ご予約なしでのご参加も可能ですが、ご予約いただいた方をお待ちいただく場合がありますので、ご了承ください。\n※日程のご都合がつかない方は、ご相談ください。個別で説明会を実施させていただきます。
URL:https://okayama-ryobi-taxi.jp/driver/session/tribe_events-1613/
LOCATION:西ふれあいセンター 第2研修室\, 妹尾880-1\, 岡山市南区\, 岡山県\, 701-0205\, 日本
END:VEVENT
BEGIN:VEVENT
DTSTART;TZID=Asia/Tokyo:20251024T180000
DTEND;TZID=Asia/Tokyo:20251024T190000
DTSTAMP:20260425T232950
CREATED:20251001T024412Z
LAST-MODIFIED:20251001T024412Z
UID:1615-1761328800-1761332400@okayama-ryobi-taxi.jp
SUMMARY:西大寺ふれあいセンター 第3研修室
DESCRIPTION:ご予約は086-272-1236までお電話いただくか、応募フォームの「その他、ご連絡事項等」へご希望の日程をご記入ください。（当日予約OK）\n※ご予約なしでのご参加も可能ですが、ご予約いただいた方をお待ちいただく場合がありますので、ご了承ください。\n※日程のご都合がつかない方は、ご相談ください。個別で説明会を実施させていただきます。
URL:https://okayama-ryobi-taxi.jp/driver/session/tribe_events-1615/
LOCATION:西大寺ふれあいセンター\, 西大寺中2丁目16-33\, 岡山市東区\, 岡山県\, 704-8116\, 日本
END:VEVENT
BEGIN:VEVENT
DTSTART;TZID=Asia/Tokyo:20251027T180000
DTEND;TZID=Asia/Tokyo:20251027T190000
DTSTAMP:20260425T232950
CREATED:20251001T024613Z
LAST-MODIFIED:20251001T024613Z
UID:1623-1761588000-1761591600@okayama-ryobi-taxi.jp
SUMMARY:南ふれあいセンター 第1研修室
DESCRIPTION:ご予約は086-272-1236までお電話いただくか、応募フォームの「その他、ご連絡事項等」へご希望の日程をご記入ください。（当日予約OK）\n※ご予約なしでのご参加も可能ですが、ご予約いただいた方をお待ちいただく場合がありますので、ご了承ください。\n※日程のご都合がつかない方は、ご相談ください。個別で説明会を実施させていただきます。
URL:https://okayama-ryobi-taxi.jp/driver/session/tribe_events-1623/
LOCATION:南ふれあいセンター\, 福田690-1\, 岡山市南区\, 岡山県\, 702-8021\, 日本
END:VEVENT
BEGIN:VEVENT
DTSTART;TZID=Asia/Tokyo:20251029T100000
DTEND;TZID=Asia/Tokyo:20251029T120000
DTSTAMP:20260425T232950
CREATED:20251001T024515Z
LAST-MODIFIED:20251001T024515Z
UID:1619-1761732000-1761739200@okayama-ryobi-taxi.jp
SUMMARY:ハローワークおかやま
DESCRIPTION:ご予約は086-272-1236までお電話いただくか、応募フォームの「その他、ご連絡事項等」へご希望の日程をご記入ください。（当日予約OK）\n※ご予約なしでのご参加も可能ですが、ご予約いただいた方をお待ちいただく場合がありますので、ご了承ください。\n※日程のご都合がつかない方は、ご相談ください。個別で説明会を実施させていただきます。
URL:https://okayama-ryobi-taxi.jp/driver/session/tribe_events-1619/
LOCATION:野田・ハローワーク岡山　1Fミニ面接会場\, 野田１丁目１−２０\, 岡山市北区\, 岡山県\, 700-0971\, 日本
END:VEVENT
BEGIN:VEVENT
DTSTART;TZID=Asia/Tokyo:20251029T180000
DTEND;TZID=Asia/Tokyo:20251029T190000
DTSTAMP:20260425T232950
CREATED:20251001T024544Z
LAST-MODIFIED:20251001T024544Z
UID:1621-1761760800-1761764400@okayama-ryobi-taxi.jp
SUMMARY:北ふれあいセンター 第3研修室
DESCRIPTION:ご予約は086-272-1236までお電話いただくか、応募フォームの「その他、ご連絡事項等」へご希望の日程をご記入ください。（当日予約OK）\n※ご予約なしでのご参加も可能ですが、ご予約いただいた方をお待ちいただく場合がありますので、ご了承ください。\n※日程のご都合がつかない方は、ご相談ください。個別で説明会を実施させていただきます。
URL:https://okayama-ryobi-taxi.jp/driver/session/tribe_events-1621/
LOCATION:北ふれあいセンター\, 谷万成2丁目6-33\, 岡山市北区\, 岡山県\, 700-0071\, 日本
END:VEVENT
BEGIN:VEVENT
DTSTART;TZID=Asia/Tokyo:20251031T180000
DTEND;TZID=Asia/Tokyo:20251031T190000
DTSTAMP:20260425T232950
CREATED:20251001T024439Z
LAST-MODIFIED:20251001T024439Z
UID:1617-1761933600-1761937200@okayama-ryobi-taxi.jp
SUMMARY:岡山ふれあいセンター 第5研修室
DESCRIPTION:ご予約は086-272-1236までお電話いただくか、応募フォームの「その他、ご連絡事項等」へご希望の日程をご記入ください。（当日予約OK）\n※ご予約なしでのご参加も可能ですが、ご予約いただいた方をお待ちいただく場合がありますので、ご了承ください。\n※日程のご都合がつかない方は、ご相談ください。個別で説明会を実施させていただきます。
URL:https://okayama-ryobi-taxi.jp/driver/session/tribe_events-1617/
LOCATION:岡山ふれあいセンター 第5研修室\, 岡山県岡山市中区桑野715-2\, 岡山市中区\, 岡山県\, 702-8002\, 日本
END:VEVENT
END:VCALENDAR