BEGIN:VCALENDAR
VERSION:2.0
PRODID:-//岡山両備タクシー 採用情報 - ECPv6.15.13//NONSGML v1.0//EN
CALSCALE:GREGORIAN
METHOD:PUBLISH
X-ORIGINAL-URL:https://okayama-ryobi-taxi.jp/driver
X-WR-CALDESC:岡山両備タクシー 採用情報 のイベント
REFRESH-INTERVAL;VALUE=DURATION:PT1H
X-Robots-Tag:noindex
X-PUBLISHED-TTL:PT1H
BEGIN:VTIMEZONE
TZID:Asia/Tokyo
BEGIN:STANDARD
TZOFFSETFROM:+0900
TZOFFSETTO:+0900
TZNAME:JST
DTSTART:20250101T000000
END:STANDARD
END:VTIMEZONE
BEGIN:VEVENT
DTSTART;TZID=Asia/Tokyo:20260107T180000
DTEND;TZID=Asia/Tokyo:20260107T190000
DTSTAMP:20260425T080711
CREATED:20251225T012545Z
LAST-MODIFIED:20251225T012545Z
UID:1684-1767808800-1767812400@okayama-ryobi-taxi.jp
SUMMARY:北ふれあいセンター 和室
DESCRIPTION:ご予約は086-272-1236までお電話いただくか、応募フォームの「その他、ご連絡事項等」へご希望の日程をご記入ください。（当日予約OK）\n※ご予約なしでのご参加も可能ですが、ご予約いただいた方をお待ちいただく場合がありますので、ご了承ください。\n※日程のご都合がつかない方は、ご相談ください。個別で説明会を実施させていただきます。
URL:https://okayama-ryobi-taxi.jp/driver/session/tribe_events-1684/
LOCATION:北ふれあいセンター\, 谷万成2丁目6-33\, 岡山市北区\, 岡山県\, 700-0071\, 日本
END:VEVENT
BEGIN:VEVENT
DTSTART;TZID=Asia/Tokyo:20260109T180000
DTEND;TZID=Asia/Tokyo:20260109T190000
DTSTAMP:20260425T080711
CREATED:20251225T012641Z
LAST-MODIFIED:20251225T012641Z
UID:1686-1767981600-1767985200@okayama-ryobi-taxi.jp
SUMMARY:岡山ふれあいセンター 第5研修室
DESCRIPTION:ご予約は086-272-1236までお電話いただくか、応募フォームの「その他、ご連絡事項等」へご希望の日程をご記入ください。（当日予約OK）\n※ご予約なしでのご参加も可能ですが、ご予約いただいた方をお待ちいただく場合がありますので、ご了承ください。\n※日程のご都合がつかない方は、ご相談ください。個別で説明会を実施させていただきます。
URL:https://okayama-ryobi-taxi.jp/driver/session/tribe_events-1686/
LOCATION:岡山ふれあいセンター 第5研修室\, 岡山県岡山市中区桑野715-2\, 岡山市中区\, 岡山県\, 702-8002\, 日本
END:VEVENT
BEGIN:VEVENT
DTSTART;TZID=Asia/Tokyo:20260114T130000
DTEND;TZID=Asia/Tokyo:20260114T150000
DTSTAMP:20260425T080711
CREATED:20251225T012731Z
LAST-MODIFIED:20251225T012731Z
UID:1688-1768395600-1768402800@okayama-ryobi-taxi.jp
SUMMARY:ハローワークおかやま
DESCRIPTION:ご予約は086-272-1236までお電話いただくか、応募フォームの「その他、ご連絡事項等」へご希望の日程をご記入ください。（当日予約OK）\n※ご予約なしでのご参加も可能ですが、ご予約いただいた方をお待ちいただく場合がありますので、ご了承ください。\n※日程のご都合がつかない方は、ご相談ください。個別で説明会を実施させていただきます。
URL:https://okayama-ryobi-taxi.jp/driver/session/tribe_events-1688/
LOCATION:野田・ハローワーク岡山　1Fミニ面接会場\, 野田１丁目１−２０\, 岡山市北区\, 岡山県\, 700-0971\, 日本
END:VEVENT
BEGIN:VEVENT
DTSTART;TZID=Asia/Tokyo:20260116T180000
DTEND;TZID=Asia/Tokyo:20260116T190000
DTSTAMP:20260425T080711
CREATED:20251225T012834Z
LAST-MODIFIED:20251225T012834Z
UID:1690-1768586400-1768590000@okayama-ryobi-taxi.jp
SUMMARY:西大寺ふれあいセンター 第3研修室
DESCRIPTION:ご予約は086-272-1236までお電話いただくか、応募フォームの「その他、ご連絡事項等」へご希望の日程をご記入ください。（当日予約OK）\n※ご予約なしでのご参加も可能ですが、ご予約いただいた方をお待ちいただく場合がありますので、ご了承ください。\n※日程のご都合がつかない方は、ご相談ください。個別で説明会を実施させていただきます。
URL:https://okayama-ryobi-taxi.jp/driver/session/tribe_events-1690/
LOCATION:西大寺ふれあいセンター\, 西大寺中2丁目16-33\, 岡山市東区\, 岡山県\, 704-8116\, 日本
END:VEVENT
BEGIN:VEVENT
DTSTART;TZID=Asia/Tokyo:20260119T180000
DTEND;TZID=Asia/Tokyo:20260119T190000
DTSTAMP:20260425T080711
CREATED:20251225T012918Z
LAST-MODIFIED:20251225T012918Z
UID:1692-1768845600-1768849200@okayama-ryobi-taxi.jp
SUMMARY:南ふれあいセンター 第1研修室
DESCRIPTION:ご予約は086-272-1236までお電話いただくか、応募フォームの「その他、ご連絡事項等」へご希望の日程をご記入ください。（当日予約OK）\n※ご予約なしでのご参加も可能ですが、ご予約いただいた方をお待ちいただく場合がありますので、ご了承ください。\n※日程のご都合がつかない方は、ご相談ください。個別で説明会を実施させていただきます。
URL:https://okayama-ryobi-taxi.jp/driver/session/tribe_events-1692/
LOCATION:南ふれあいセンター\, 福田690-1\, 岡山市南区\, 岡山県\, 702-8021\, 日本
END:VEVENT
BEGIN:VEVENT
DTSTART;TZID=Asia/Tokyo:20260121T180000
DTEND;TZID=Asia/Tokyo:20260121T190000
DTSTAMP:20260425T080711
CREATED:20251225T012958Z
LAST-MODIFIED:20251225T012958Z
UID:1694-1769018400-1769022000@okayama-ryobi-taxi.jp
SUMMARY:北ふれあいセンター 和室
DESCRIPTION:ご予約は086-272-1236までお電話いただくか、応募フォームの「その他、ご連絡事項等」へご希望の日程をご記入ください。（当日予約OK）\n※ご予約なしでのご参加も可能ですが、ご予約いただいた方をお待ちいただく場合がありますので、ご了承ください。\n※日程のご都合がつかない方は、ご相談ください。個別で説明会を実施させていただきます。
URL:https://okayama-ryobi-taxi.jp/driver/session/tribe_events-1694/
LOCATION:北ふれあいセンター\, 谷万成2丁目6-33\, 岡山市北区\, 岡山県\, 700-0071\, 日本
END:VEVENT
BEGIN:VEVENT
DTSTART;TZID=Asia/Tokyo:20260126T180000
DTEND;TZID=Asia/Tokyo:20260126T190000
DTSTAMP:20260425T080711
CREATED:20251225T013035Z
LAST-MODIFIED:20251225T013035Z
UID:1696-1769450400-1769454000@okayama-ryobi-taxi.jp
SUMMARY:西ふれあいセンター 第2研修室
DESCRIPTION:ご予約は086-272-1236までお電話いただくか、応募フォームの「その他、ご連絡事項等」へご希望の日程をご記入ください。（当日予約OK）\n※ご予約なしでのご参加も可能ですが、ご予約いただいた方をお待ちいただく場合がありますので、ご了承ください。\n※日程のご都合がつかない方は、ご相談ください。個別で説明会を実施させていただきます。
URL:https://okayama-ryobi-taxi.jp/driver/session/tribe_events-1696/
LOCATION:西ふれあいセンター 第2研修室\, 妹尾880-1\, 岡山市南区\, 岡山県\, 701-0205\, 日本
END:VEVENT
END:VCALENDAR